BEGIN:VCALENDAR
VERSION:2.0
PRODID:-//Dance North County - ECPv6.15.20//NONSGML v1.0//EN
CALSCALE:GREGORIAN
METHOD:PUBLISH
X-WR-CALNAME:Dance North County
X-ORIGINAL-URL:https://wiles.nastraining.com/GCMW115Prj1-wiles
X-WR-CALDESC:Events for Dance North County
REFRESH-INTERVAL;VALUE=DURATION:PT1H
X-Robots-Tag:noindex
X-PUBLISHED-TTL:PT1H
BEGIN:VTIMEZONE
TZID:America/Los_Angeles
BEGIN:DAYLIGHT
TZOFFSETFROM:-0800
TZOFFSETTO:-0700
TZNAME:PDT
DTSTART:20240310T100000
END:DAYLIGHT
BEGIN:STANDARD
TZOFFSETFROM:-0700
TZOFFSETTO:-0800
TZNAME:PST
DTSTART:20241103T090000
END:STANDARD
BEGIN:DAYLIGHT
TZOFFSETFROM:-0800
TZOFFSETTO:-0700
TZNAME:PDT
DTSTART:20250309T100000
END:DAYLIGHT
BEGIN:STANDARD
TZOFFSETFROM:-0700
TZOFFSETTO:-0800
TZNAME:PST
DTSTART:20251102T090000
END:STANDARD
BEGIN:DAYLIGHT
TZOFFSETFROM:-0800
TZOFFSETTO:-0700
TZNAME:PDT
DTSTART:20260308T100000
END:DAYLIGHT
BEGIN:STANDARD
TZOFFSETFROM:-0700
TZOFFSETTO:-0800
TZNAME:PST
DTSTART:20261101T090000
END:STANDARD
END:VTIMEZONE
BEGIN:VEVENT
DTSTART;TZID=America/Los_Angeles:20251208T093000
DTEND;TZID=America/Los_Angeles:20251208T103000
DTSTAMP:20260422T044035
CREATED:20251205T000753Z
LAST-MODIFIED:20251208T201050Z
UID:999-1765186200-1765189800@wiles.nastraining.com
SUMMARY:Zumba
DESCRIPTION:Fitness
URL:https://wiles.nastraining.com/GCMW115Prj1-wiles/event/zumba/
CATEGORIES:class
END:VEVENT
BEGIN:VEVENT
DTSTART;TZID=America/Los_Angeles:20251210T110000
DTEND;TZID=America/Los_Angeles:20251210T120000
DTSTAMP:20260422T044035
CREATED:20251205T002820Z
LAST-MODIFIED:20251208T200947Z
UID:1018-1765364400-1765368000@wiles.nastraining.com
SUMMARY:Flamenco
DESCRIPTION:Instructor: Joanna
URL:https://wiles.nastraining.com/GCMW115Prj1-wiles/event/flamenco/
CATEGORIES:class
END:VEVENT
BEGIN:VEVENT
DTSTART;TZID=America/Los_Angeles:20251210T140000
DTEND;TZID=America/Los_Angeles:20251210T150000
DTSTAMP:20260422T044035
CREATED:20251208T000811Z
LAST-MODIFIED:20251208T201247Z
UID:1071-1765375200-1765378800@wiles.nastraining.com
SUMMARY:Ballet-Tap (3-5 yrs)
DESCRIPTION:
URL:https://wiles.nastraining.com/GCMW115Prj1-wiles/event/ballet-tap-3-5-yrs/
CATEGORIES:class
END:VEVENT
BEGIN:VEVENT
DTSTART;TZID=America/Los_Angeles:20251210T150000
DTEND;TZID=America/Los_Angeles:20251210T160000
DTSTAMP:20260422T044035
CREATED:20251208T000825Z
LAST-MODIFIED:20251208T201247Z
UID:1072-1765378800-1765382400@wiles.nastraining.com
SUMMARY:Tap Jazz (6-9 yrs)
DESCRIPTION:
URL:https://wiles.nastraining.com/GCMW115Prj1-wiles/event/tap-jazz-6-9-yrs/
CATEGORIES:class
END:VEVENT
BEGIN:VEVENT
DTSTART;TZID=America/Los_Angeles:20251210T160000
DTEND;TZID=America/Los_Angeles:20251210T170000
DTSTAMP:20260422T044035
CREATED:20251208T000825Z
LAST-MODIFIED:20251208T201246Z
UID:1073-1765382400-1765386000@wiles.nastraining.com
SUMMARY:Hip Hop (5-9 yrs)
DESCRIPTION:
URL:https://wiles.nastraining.com/GCMW115Prj1-wiles/event/hip-hop-5-9-yrs/
CATEGORIES:class
END:VEVENT
BEGIN:VEVENT
DTSTART;TZID=America/Los_Angeles:20251210T170000
DTEND;TZID=America/Los_Angeles:20251210T180000
DTSTAMP:20260422T044035
CREATED:20251208T000825Z
LAST-MODIFIED:20251208T201246Z
UID:1075-1765386000-1765389600@wiles.nastraining.com
SUMMARY:Musical Theatre
DESCRIPTION:
URL:https://wiles.nastraining.com/GCMW115Prj1-wiles/event/musical-theatre/
CATEGORIES:class
END:VEVENT
BEGIN:VEVENT
DTSTART;TZID=America/Los_Angeles:20251210T180000
DTEND;TZID=America/Los_Angeles:20251210T190000
DTSTAMP:20260422T044035
CREATED:20251208T000840Z
LAST-MODIFIED:20251208T200946Z
UID:1078-1765389600-1765393200@wiles.nastraining.com
SUMMARY:Salsa (Beginning)
DESCRIPTION:
URL:https://wiles.nastraining.com/GCMW115Prj1-wiles/event/salsa-beginning/
CATEGORIES:class
END:VEVENT
BEGIN:VEVENT
DTSTART;TZID=America/Los_Angeles:20251210T190000
DTEND;TZID=America/Los_Angeles:20251210T200000
DTSTAMP:20260422T044035
CREATED:20251107T204956Z
LAST-MODIFIED:20251208T200946Z
UID:256-1765393200-1765396800@wiles.nastraining.com
SUMMARY:Intermediate Salsa
DESCRIPTION:
URL:https://wiles.nastraining.com/GCMW115Prj1-wiles/event/intermediate-salsa-4/
CATEGORIES:class
END:VEVENT
END:VCALENDAR