BEGIN:VCALENDAR
VERSION:2.0
PRODID:-//Dance North County - ECPv6.15.20//NONSGML v1.0//EN
CALSCALE:GREGORIAN
METHOD:PUBLISH
X-WR-CALNAME:Dance North County
X-ORIGINAL-URL:https://wiles.nastraining.com/GCMW115Prj1-wiles
X-WR-CALDESC:Events for Dance North County
REFRESH-INTERVAL;VALUE=DURATION:PT1H
X-Robots-Tag:noindex
X-PUBLISHED-TTL:PT1H
BEGIN:VTIMEZONE
TZID:America/Los_Angeles
BEGIN:DAYLIGHT
TZOFFSETFROM:-0800
TZOFFSETTO:-0700
TZNAME:PDT
DTSTART:20240310T100000
END:DAYLIGHT
BEGIN:STANDARD
TZOFFSETFROM:-0700
TZOFFSETTO:-0800
TZNAME:PST
DTSTART:20241103T090000
END:STANDARD
BEGIN:DAYLIGHT
TZOFFSETFROM:-0800
TZOFFSETTO:-0700
TZNAME:PDT
DTSTART:20250309T100000
END:DAYLIGHT
BEGIN:STANDARD
TZOFFSETFROM:-0700
TZOFFSETTO:-0800
TZNAME:PST
DTSTART:20251102T090000
END:STANDARD
BEGIN:DAYLIGHT
TZOFFSETFROM:-0800
TZOFFSETTO:-0700
TZNAME:PDT
DTSTART:20260308T100000
END:DAYLIGHT
BEGIN:STANDARD
TZOFFSETFROM:-0700
TZOFFSETTO:-0800
TZNAME:PST
DTSTART:20261101T090000
END:STANDARD
END:VTIMEZONE
BEGIN:VEVENT
DTSTART;TZID=America/Los_Angeles:20251214T160000
DTEND;TZID=America/Los_Angeles:20251214T170000
DTSTAMP:20260419T191557
CREATED:20251208T000948Z
LAST-MODIFIED:20251208T200748Z
UID:1097-1765728000-1765731600@wiles.nastraining.com
SUMMARY:Ballet Adult
DESCRIPTION:
URL:https://wiles.nastraining.com/GCMW115Prj1-wiles/event/ballet-adult-2/
CATEGORIES:class
END:VEVENT
BEGIN:VEVENT
DTSTART;TZID=America/Los_Angeles:20251214T220000
DTEND;TZID=America/Los_Angeles:20251214T230000
DTSTAMP:20260419T191557
CREATED:20251208T000934Z
LAST-MODIFIED:20251208T200748Z
UID:1096-1765749600-1765753200@wiles.nastraining.com
SUMMARY:Hip Hop Cardio
DESCRIPTION:
URL:https://wiles.nastraining.com/GCMW115Prj1-wiles/event/hip-hop-cardio-2/
CATEGORIES:class
END:VEVENT
BEGIN:VEVENT
DTSTART;TZID=America/Los_Angeles:20251208T093000
DTEND;TZID=America/Los_Angeles:20251208T103000
DTSTAMP:20260419T191557
CREATED:20251205T000753Z
LAST-MODIFIED:20251208T201050Z
UID:999-1765186200-1765189800@wiles.nastraining.com
SUMMARY:Zumba
DESCRIPTION:Fitness
URL:https://wiles.nastraining.com/GCMW115Prj1-wiles/event/zumba/
CATEGORIES:class
END:VEVENT
BEGIN:VEVENT
DTSTART;TZID=America/Los_Angeles:20251208T180000
DTEND;TZID=America/Los_Angeles:20251208T190000
DTSTAMP:20260419T191557
CREATED:20251205T001144Z
LAST-MODIFIED:20251208T202827Z
UID:1003-1765216800-1765220400@wiles.nastraining.com
SUMMARY:Swing (Beginning)
DESCRIPTION:Instructor: Tom
URL:https://wiles.nastraining.com/GCMW115Prj1-wiles/event/swing-beginning/
CATEGORIES:class
END:VEVENT
BEGIN:VEVENT
DTSTART;TZID=America/Los_Angeles:20251208T180000
DTEND;TZID=America/Los_Angeles:20251208T190000
DTSTAMP:20260419T191557
CREATED:20251208T000806Z
LAST-MODIFIED:20251208T201049Z
UID:1063-1765216800-1765220400@wiles.nastraining.com
SUMMARY:Jitterbug Beg
DESCRIPTION:
URL:https://wiles.nastraining.com/GCMW115Prj1-wiles/event/jitterbug-beg/
CATEGORIES:class
END:VEVENT
BEGIN:VEVENT
DTSTART;TZID=America/Los_Angeles:20251208T180000
DTEND;TZID=America/Los_Angeles:20251208T190000
DTSTAMP:20260419T191557
CREATED:20251208T000806Z
LAST-MODIFIED:20251208T201049Z
UID:1062-1765216800-1765220400@wiles.nastraining.com
SUMMARY:Rockabilly Beg
DESCRIPTION:
URL:https://wiles.nastraining.com/GCMW115Prj1-wiles/event/rockabilly-beg/
CATEGORIES:class
END:VEVENT
BEGIN:VEVENT
DTSTART;TZID=America/Los_Angeles:20251208T190000
DTEND;TZID=America/Los_Angeles:20251208T200000
DTSTAMP:20260419T191557
CREATED:20251205T001545Z
LAST-MODIFIED:20251208T201049Z
UID:1007-1765220400-1765224000@wiles.nastraining.com
SUMMARY:Swing (Intermediate)
DESCRIPTION:Instructor: Tom
URL:https://wiles.nastraining.com/GCMW115Prj1-wiles/event/swing-intermediate/
CATEGORIES:class
END:VEVENT
BEGIN:VEVENT
DTSTART;TZID=America/Los_Angeles:20251208T190000
DTEND;TZID=America/Los_Angeles:20251208T200000
DTSTAMP:20260419T191557
CREATED:20251208T000806Z
LAST-MODIFIED:20251208T200948Z
UID:1066-1765220400-1765224000@wiles.nastraining.com
SUMMARY:Balboa (Intermediate)
DESCRIPTION:
URL:https://wiles.nastraining.com/GCMW115Prj1-wiles/event/balboa-intermediate/
CATEGORIES:class
END:VEVENT
BEGIN:VEVENT
DTSTART;TZID=America/Los_Angeles:20251208T190000
DTEND;TZID=America/Los_Angeles:20251208T200000
DTSTAMP:20260419T191557
CREATED:20251208T000806Z
LAST-MODIFIED:20251208T200947Z
UID:1065-1765220400-1765224000@wiles.nastraining.com
SUMMARY:Lindy Hop (Intermediate)
DESCRIPTION:
URL:https://wiles.nastraining.com/GCMW115Prj1-wiles/event/lindy-hop-intermediate/
CATEGORIES:class
END:VEVENT
BEGIN:VEVENT
DTSTART;TZID=America/Los_Angeles:20251209T150000
DTEND;TZID=America/Los_Angeles:20251209T160000
DTSTAMP:20260419T191557
CREATED:20251208T000811Z
LAST-MODIFIED:20251208T200947Z
UID:1067-1765292400-1765296000@wiles.nastraining.com
SUMMARY:Line Dance Class
DESCRIPTION:
URL:https://wiles.nastraining.com/GCMW115Prj1-wiles/event/line-dance-class/
CATEGORIES:class
END:VEVENT
BEGIN:VEVENT
DTSTART;TZID=America/Los_Angeles:20251209T170000
DTEND;TZID=America/Los_Angeles:20251209T180000
DTSTAMP:20260419T191557
CREATED:20251205T001811Z
LAST-MODIFIED:20251208T200947Z
UID:1010-1765299600-1765303200@wiles.nastraining.com
SUMMARY:Hip Hop I
DESCRIPTION:Instructor: Kay
URL:https://wiles.nastraining.com/GCMW115Prj1-wiles/event/hip-hop-i/
CATEGORIES:class
END:VEVENT
BEGIN:VEVENT
DTSTART;TZID=America/Los_Angeles:20251208T093000
DTEND;TZID=America/Los_Angeles:20251208T103000
DTSTAMP:20260419T191557
CREATED:20251205T000753Z
LAST-MODIFIED:20251208T201050Z
UID:999-1765186200-1765189800@wiles.nastraining.com
SUMMARY:Zumba
DESCRIPTION:Fitness
URL:https://wiles.nastraining.com/GCMW115Prj1-wiles/event/zumba/
CATEGORIES:class
END:VEVENT
BEGIN:VEVENT
DTSTART;TZID=America/Los_Angeles:20251210T110000
DTEND;TZID=America/Los_Angeles:20251210T120000
DTSTAMP:20260419T191557
CREATED:20251205T002820Z
LAST-MODIFIED:20251208T200947Z
UID:1018-1765364400-1765368000@wiles.nastraining.com
SUMMARY:Flamenco
DESCRIPTION:Instructor: Joanna
URL:https://wiles.nastraining.com/GCMW115Prj1-wiles/event/flamenco/
CATEGORIES:class
END:VEVENT
BEGIN:VEVENT
DTSTART;TZID=America/Los_Angeles:20251210T180000
DTEND;TZID=America/Los_Angeles:20251210T190000
DTSTAMP:20260419T191557
CREATED:20251208T000840Z
LAST-MODIFIED:20251208T200946Z
UID:1078-1765389600-1765393200@wiles.nastraining.com
SUMMARY:Salsa (Beginning)
DESCRIPTION:
URL:https://wiles.nastraining.com/GCMW115Prj1-wiles/event/salsa-beginning/
CATEGORIES:class
END:VEVENT
BEGIN:VEVENT
DTSTART;TZID=America/Los_Angeles:20251210T190000
DTEND;TZID=America/Los_Angeles:20251210T200000
DTSTAMP:20260419T191557
CREATED:20251107T204956Z
LAST-MODIFIED:20251208T200946Z
UID:256-1765393200-1765396800@wiles.nastraining.com
SUMMARY:Intermediate Salsa
DESCRIPTION:
URL:https://wiles.nastraining.com/GCMW115Prj1-wiles/event/intermediate-salsa-4/
CATEGORIES:class
END:VEVENT
BEGIN:VEVENT
DTSTART;TZID=America/Los_Angeles:20251211T180000
DTEND;TZID=America/Los_Angeles:20251211T190000
DTSTAMP:20260419T191557
CREATED:20251208T000840Z
LAST-MODIFIED:20251208T200750Z
UID:1080-1765476000-1765479600@wiles.nastraining.com
SUMMARY:Hip Hop Cardio
DESCRIPTION:
URL:https://wiles.nastraining.com/GCMW115Prj1-wiles/event/hip-hop-cardio/
CATEGORIES:class
END:VEVENT
BEGIN:VEVENT
DTSTART;TZID=America/Los_Angeles:20251211T190000
DTEND;TZID=America/Los_Angeles:20251211T200000
DTSTAMP:20260419T191557
CREATED:20251205T002951Z
LAST-MODIFIED:20251208T200750Z
UID:1021-1765479600-1765483200@wiles.nastraining.com
SUMMARY:Mambo
DESCRIPTION:Instructor: Joanna
URL:https://wiles.nastraining.com/GCMW115Prj1-wiles/event/mambo-3/
CATEGORIES:class
END:VEVENT
BEGIN:VEVENT
DTSTART;TZID=America/Los_Angeles:20251211T220000
DTEND;TZID=America/Los_Angeles:20251211T230000
DTSTAMP:20260419T191557
CREATED:20251208T000855Z
LAST-MODIFIED:20251208T200750Z
UID:1083-1765490400-1765494000@wiles.nastraining.com
SUMMARY:Milonga Tango
DESCRIPTION:
URL:https://wiles.nastraining.com/GCMW115Prj1-wiles/event/milonga-tango/
CATEGORIES:class
END:VEVENT
BEGIN:VEVENT
DTSTART;TZID=America/Los_Angeles:20251212T093000
DTEND;TZID=America/Los_Angeles:20251212T103000
DTSTAMP:20260419T191557
CREATED:20251208T000855Z
LAST-MODIFIED:20251208T200749Z
UID:1084-1765531800-1765535400@wiles.nastraining.com
SUMMARY:Zumba Fitness
DESCRIPTION:
URL:https://wiles.nastraining.com/GCMW115Prj1-wiles/event/zumba-fitness/
CATEGORIES:class
END:VEVENT
BEGIN:VEVENT
DTSTART;TZID=America/Los_Angeles:20251212T163000
DTEND;TZID=America/Los_Angeles:20251212T173000
DTSTAMP:20260419T191557
CREATED:20251208T000855Z
LAST-MODIFIED:20251208T200749Z
UID:1086-1765557000-1765560600@wiles.nastraining.com
SUMMARY:Ballet Adult/Teen
DESCRIPTION:
URL:https://wiles.nastraining.com/GCMW115Prj1-wiles/event/ballet-adult-teen/
CATEGORIES:class
END:VEVENT
BEGIN:VEVENT
DTSTART;TZID=America/Los_Angeles:20251114T200000
DTEND;TZID=America/Los_Angeles:20251114T210000
DTSTAMP:20260419T191557
CREATED:20251111T171534Z
LAST-MODIFIED:20251208T201050Z
UID:403-1763150400-1763154000@wiles.nastraining.com
SUMMARY:Beginner Salsa
DESCRIPTION:
URL:https://wiles.nastraining.com/GCMW115Prj1-wiles/event/beginner-salsa-3/
CATEGORIES:class
END:VEVENT
BEGIN:VEVENT
DTSTART;TZID=America/Los_Angeles:20251213T150000
DTEND;TZID=America/Los_Angeles:20251213T160000
DTSTAMP:20260419T191557
CREATED:20251208T000933Z
LAST-MODIFIED:20251208T200749Z
UID:1092-1765638000-1765641600@wiles.nastraining.com
SUMMARY:Line Dance Class
DESCRIPTION:
URL:https://wiles.nastraining.com/GCMW115Prj1-wiles/event/line-dance-class-2/
CATEGORIES:class
END:VEVENT
BEGIN:VEVENT
DTSTART;TZID=America/Los_Angeles:20251213T190000
DTEND;TZID=America/Los_Angeles:20251213T200000
DTSTAMP:20260419T191557
CREATED:20251208T000933Z
LAST-MODIFIED:20251208T200749Z
UID:1095-1765652400-1765656000@wiles.nastraining.com
SUMMARY:Hula Private Class
DESCRIPTION:
URL:https://wiles.nastraining.com/GCMW115Prj1-wiles/event/hula-private-class/
CATEGORIES:class
END:VEVENT
BEGIN:VEVENT
DTSTART;TZID=America/Los_Angeles:20251214T160000
DTEND;TZID=America/Los_Angeles:20251214T170000
DTSTAMP:20260419T191557
CREATED:20251208T000948Z
LAST-MODIFIED:20251208T200748Z
UID:1097-1765728000-1765731600@wiles.nastraining.com
SUMMARY:Ballet Adult
DESCRIPTION:
URL:https://wiles.nastraining.com/GCMW115Prj1-wiles/event/ballet-adult-2/
CATEGORIES:class
END:VEVENT
BEGIN:VEVENT
DTSTART;TZID=America/Los_Angeles:20251214T220000
DTEND;TZID=America/Los_Angeles:20251214T230000
DTSTAMP:20260419T191557
CREATED:20251208T000934Z
LAST-MODIFIED:20251208T200748Z
UID:1096-1765749600-1765753200@wiles.nastraining.com
SUMMARY:Hip Hop Cardio
DESCRIPTION:
URL:https://wiles.nastraining.com/GCMW115Prj1-wiles/event/hip-hop-cardio-2/
CATEGORIES:class
END:VEVENT
BEGIN:VEVENT
DTSTART;TZID=America/Los_Angeles:20251208T093000
DTEND;TZID=America/Los_Angeles:20251208T103000
DTSTAMP:20260419T191557
CREATED:20251205T000753Z
LAST-MODIFIED:20251208T201050Z
UID:999-1765186200-1765189800@wiles.nastraining.com
SUMMARY:Zumba
DESCRIPTION:Fitness
URL:https://wiles.nastraining.com/GCMW115Prj1-wiles/event/zumba/
CATEGORIES:class
END:VEVENT
BEGIN:VEVENT
DTSTART;TZID=America/Los_Angeles:20251208T180000
DTEND;TZID=America/Los_Angeles:20251208T190000
DTSTAMP:20260419T191557
CREATED:20251205T001144Z
LAST-MODIFIED:20251208T202827Z
UID:1003-1765216800-1765220400@wiles.nastraining.com
SUMMARY:Swing (Beginning)
DESCRIPTION:Instructor: Tom
URL:https://wiles.nastraining.com/GCMW115Prj1-wiles/event/swing-beginning/
CATEGORIES:class
END:VEVENT
BEGIN:VEVENT
DTSTART;TZID=America/Los_Angeles:20251208T180000
DTEND;TZID=America/Los_Angeles:20251208T190000
DTSTAMP:20260419T191557
CREATED:20251208T000806Z
LAST-MODIFIED:20251208T201049Z
UID:1063-1765216800-1765220400@wiles.nastraining.com
SUMMARY:Jitterbug Beg
DESCRIPTION:
URL:https://wiles.nastraining.com/GCMW115Prj1-wiles/event/jitterbug-beg/
CATEGORIES:class
END:VEVENT
BEGIN:VEVENT
DTSTART;TZID=America/Los_Angeles:20251208T180000
DTEND;TZID=America/Los_Angeles:20251208T190000
DTSTAMP:20260419T191557
CREATED:20251208T000806Z
LAST-MODIFIED:20251208T201049Z
UID:1062-1765216800-1765220400@wiles.nastraining.com
SUMMARY:Rockabilly Beg
DESCRIPTION:
URL:https://wiles.nastraining.com/GCMW115Prj1-wiles/event/rockabilly-beg/
CATEGORIES:class
END:VEVENT
BEGIN:VEVENT
DTSTART;TZID=America/Los_Angeles:20251208T190000
DTEND;TZID=America/Los_Angeles:20251208T200000
DTSTAMP:20260419T191557
CREATED:20251205T001545Z
LAST-MODIFIED:20251208T201049Z
UID:1007-1765220400-1765224000@wiles.nastraining.com
SUMMARY:Swing (Intermediate)
DESCRIPTION:Instructor: Tom
URL:https://wiles.nastraining.com/GCMW115Prj1-wiles/event/swing-intermediate/
CATEGORIES:class
END:VEVENT
END:VCALENDAR